BEGIN:VCALENDAR
VERSION:2.0
PRODID:-//Ferienwohnung Familie Neubauer - ECPv4.9.13//NONSGML v1.0//EN
CALSCALE:GREGORIAN
METHOD:PUBLISH
X-WR-CALNAME:Ferienwohnung Familie Neubauer
X-ORIGINAL-URL:https://neubauer-fw.de
X-WR-CALDESC:Veranstaltungen im Ferienwohnung Familie Neubauer
BEGIN:VTIMEZONE
TZID:Europe/Berlin
BEGIN:DAYLIGHT
TZOFFSETFROM:+0100
TZOFFSETTO:+0200
TZNAME:CEST
DTSTART:20200329T010000
END:DAYLIGHT
BEGIN:STANDARD
TZOFFSETFROM:+0200
TZOFFSETTO:+0100
TZNAME:CET
DTSTART:20201025T010000
END:STANDARD
END:VTIMEZONE
BEGIN:VEVENT
DTSTART;TZID=Europe/Berlin:20200225T080000
DTEND;TZID=Europe/Berlin:20200225T170000
DTSTAMP:20260422T171412
CREATED:20200224T234715Z
LAST-MODIFIED:20200224T234715Z
UID:59-1582617600-1582650000@neubauer-fw.de
SUMMARY:Abendessen für alle
DESCRIPTION:Schönes Abendessen für alle \n
URL:https://neubauer-fw.de/event/abendessen-fuer-alle/
END:VEVENT
END:VCALENDAR